BEGIN:VCALENDAR
VERSION:2.0
PRODID:-//Nordic Travel Retail Group - ECPv4.9.13//NONSGML v1.0//EN
CALSCALE:GREGORIAN
METHOD:PUBLISH
X-WR-CALNAME:Nordic Travel Retail Group
X-ORIGINAL-URL:https://nordictravelretailgroup.com
X-WR-CALDESC:Events for Nordic Travel Retail Group
BEGIN:VTIMEZONE
TZID:Europe/Copenhagen
BEGIN:DAYLIGHT
TZOFFSETFROM:+0100
TZOFFSETTO:+0200
TZNAME:CEST
DTSTART:20240331T010000
END:DAYLIGHT
BEGIN:STANDARD
TZOFFSETFROM:+0200
TZOFFSETTO:+0100
TZNAME:CET
DTSTART:20241027T010000
END:STANDARD
END:VTIMEZONE
BEGIN:VEVENT
DTSTART;TZID=Europe/Copenhagen:20240321T103000
DTEND;TZID=Europe/Copenhagen:20240321T160000
DTSTAMP:20260421T174919
CREATED:20231128T091233Z
LAST-MODIFIED:20240122T152313Z
UID:6992-1711017000-1711036800@nordictravelretailgroup.com
SUMMARY:AGM & members meeting
DESCRIPTION:The Nordic Travel Retail Group’s Annual General Meeting will take place 21 March 2024 at Radisson Blu Airport Terminal Hotel Stockholm Arlanda Airport. Registrations are received until 7 March 2024. Register by e-mail to the secretariat here. \nProgram \n\n10:30: Arrival and registrations\n11:00: Welcome\, Annual General Meeting\n\nAgenda Annual General Meeting \n\nTo elect a chairperson of the meeting\nTo receive a report\nTo receive and adopt accounts\nTo fix the membership fee and budget\nTo elect Board members and alternate Board members. Note that if you want to be a candidate for the Board\, please announce your candidacy by contacting the secretariat by e-mail here before March 7. If a vote for the board is taking place\, please note that each member company has one vote and clarify who is voting on behalf of your company before the AGM\nTo appoint auditors\nAny other business\n\n\n11:30: Members’ meeting\n11.30: SESSION 1\, Fredrik Hammargården\, “How AI can optimize customers experience and what influence it can have on the travel retail business”\n12.15: Lunch\n13.00: SESSION 2\, Lottie Knutson\, “The Nordic traveller”\n13.45: SESSION 3\, Marie Ullmark\, Director Retail Food & Beverage and Aviation Pricing\, Swedavia\, “Marketplace of the future”\n14.45: Short break\n15.15: Special keynote presentation\, Pontus Sellberg\, Senior Analyst\, Danske Bank Sverige\, “8 forces of fragmentation impacting global value chains”\n16:00: End of program\n\n
URL:https://nordictravelretailgroup.com/event/agm-members-meeting/
CATEGORIES:Future
END:VEVENT
END:VCALENDAR