BEGIN:VCALENDAR
VERSION:2.0
PRODID:-//Nordic Travel Retail Group - ECPv4.9.13//NONSGML v1.0//EN
CALSCALE:GREGORIAN
METHOD:PUBLISH
X-WR-CALNAME:Nordic Travel Retail Group
X-ORIGINAL-URL:https://nordictravelretailgroup.com
X-WR-CALDESC:Events for Nordic Travel Retail Group
BEGIN:VTIMEZONE
TZID:Europe/Copenhagen
BEGIN:DAYLIGHT
TZOFFSETFROM:+0100
TZOFFSETTO:+0200
TZNAME:CEST
DTSTART:20250330T010000
END:DAYLIGHT
BEGIN:STANDARD
TZOFFSETFROM:+0200
TZOFFSETTO:+0100
TZNAME:CET
DTSTART:20251026T010000
END:STANDARD
END:VTIMEZONE
BEGIN:VEVENT
DTSTART;TZID=Europe/Copenhagen:20250117T080000
DTEND;TZID=Europe/Copenhagen:20250117T170000
DTSTAMP:20260421T103717
CREATED:20250117T115001Z
LAST-MODIFIED:20250117T115001Z
UID:7209-1737100800-1737133200@nordictravelretailgroup.com
SUMMARY:Annual General Meeting
DESCRIPTION:
URL:https://nordictravelretailgroup.com/event/annual-general-meeting-2/
END:VEVENT
END:VCALENDAR