BEGIN:VCALENDAR
VERSION:2.0
PRODID:-//Nordic Travel Retail Group - ECPv4.9.13//NONSGML v1.0//EN
CALSCALE:GREGORIAN
METHOD:PUBLISH
X-WR-CALNAME:Nordic Travel Retail Group
X-ORIGINAL-URL:https://nordictravelretailgroup.com
X-WR-CALDESC:Events for Nordic Travel Retail Group
BEGIN:VTIMEZONE
TZID:Europe/Copenhagen
BEGIN:DAYLIGHT
TZOFFSETFROM:+0100
TZOFFSETTO:+0200
TZNAME:CEST
DTSTART:20210328T010000
END:DAYLIGHT
BEGIN:STANDARD
TZOFFSETFROM:+0200
TZOFFSETTO:+0100
TZNAME:CET
DTSTART:20211031T010000
END:STANDARD
END:VTIMEZONE
BEGIN:VEVENT
DTSTART;TZID=Europe/Copenhagen:20210909T140000
DTEND;TZID=Europe/Copenhagen:20210909T150000
DTSTAMP:20260426T042725
CREATED:20210524T100237Z
LAST-MODIFIED:20210823T110419Z
UID:6318-1631196000-1631199600@nordictravelretailgroup.com
SUMMARY:Members' meeting
DESCRIPTION:
URL:https://nordictravelretailgroup.com/event/members-meeting/
LOCATION:Microsoft Teams
END:VEVENT
END:VCALENDAR