BEGIN:VCALENDAR
VERSION:2.0
PRODID:-//Nordic Travel Retail Group - ECPv4.9.13//NONSGML v1.0//EN
CALSCALE:GREGORIAN
METHOD:PUBLISH
X-WR-CALNAME:Nordic Travel Retail Group
X-ORIGINAL-URL:https://nordictravelretailgroup.com
X-WR-CALDESC:Events for Nordic Travel Retail Group
BEGIN:VTIMEZONE
TZID:Europe/Copenhagen
BEGIN:DAYLIGHT
TZOFFSETFROM:+0100
TZOFFSETTO:+0200
TZNAME:CEST
DTSTART:20220327T010000
END:DAYLIGHT
BEGIN:STANDARD
TZOFFSETFROM:+0200
TZOFFSETTO:+0100
TZNAME:CET
DTSTART:20221030T010000
END:STANDARD
END:VTIMEZONE
BEGIN:VEVENT
DTSTART;TZID=Europe/Copenhagen:20220310T140000
DTEND;TZID=Europe/Copenhagen:20220310T153000
DTSTAMP:20260426T025317
CREATED:20220131T155317Z
LAST-MODIFIED:20220131T155750Z
UID:6470-1646920800-1646926200@nordictravelretailgroup.com
SUMMARY:NTRG AGM & Members' Meeting
DESCRIPTION:
URL:https://nordictravelretailgroup.com/event/ntrg-agm-members-meeting-2/
LOCATION:Microsoft Teams
END:VEVENT
END:VCALENDAR